BEGIN:VCALENDAR
VERSION:2.0
PRODID:-//enneagramm.eu - ECPv6.3.2//NONSGML v1.0//EN
CALSCALE:GREGORIAN
METHOD:PUBLISH
X-ORIGINAL-URL:https://enneagramm.eu
X-WR-CALDESC:Veranstaltungen für enneagramm.eu
REFRESH-INTERVAL;VALUE=DURATION:PT1H
X-Robots-Tag:noindex
X-PUBLISHED-TTL:PT1H
BEGIN:VTIMEZONE
TZID:Europe/Berlin
BEGIN:DAYLIGHT
TZOFFSETFROM:+0100
TZOFFSETTO:+0200
TZNAME:CEST
DTSTART:20260329T010000
END:DAYLIGHT
BEGIN:STANDARD
TZOFFSETFROM:+0200
TZOFFSETTO:+0100
TZNAME:CET
DTSTART:20261025T010000
END:STANDARD
END:VTIMEZONE
BEGIN:VEVENT
DTSTART;TZID=Europe/Berlin:20260417T173000
DTEND;TZID=Europe/Berlin:20260419T120000
DTSTAMP:20260419T152902
CREATED:20260120T183806Z
LAST-MODIFIED:20260228T155448Z
UID:38597-1776447000-1776600000@enneagramm.eu
SUMMARY:99867 Gotha: Das innere Kind im Enneagramm\, Vertiefungskurs (Wally Kutscher)
DESCRIPTION:Vertiefungskurs – Wochenendseminar: Das innere Kind im Enneagramm \nZum Trostpunkt bzw. Entwicklungspunkt der Enneagramm-Typen gibt es eine interessante Theorie: die Seelenkinder der Enneatypen (in Sandra Maitri: Neun Porträts der Seele).Das Seelenkind entspricht dabei einer tieferen Seelenschicht\, die unserem Enneagramm-Typ zugrunde liegt und Qualitäten unseres Trostpunkt-Typs hat. Wertvolle Eigenschaften unseres jeweiligen Trostpunktes sind also in uns bereits angelegt und wollen wiederentdeckt und entwickelt werden!Kreative Impulse\, ein intensiver Austausch in der Gruppe und die Arbeit mit dem begehbaren Enneagramm vertiefen das persönliche Erleben und unterstützen den individuellen Entwicklungsweg. \nTermin: Freitag\, 17. April 2026\, 17:30 Uhr – Sonntag\, 19. April 2026\, 12:00 UhrKursgebühr: 95 Euro (Barzahlung)Veranstaltungsort: Augustinerkloster\, Jüdenstr. 27\, 99867 Gotha (www.augustinerkloster-gotha.de)Seminarleiterin: Wally Kutscher\, Enneagramm-Trainerin (ÖAE) (www.enneagramm-wallykutscher.de)Anmeldung: bis 6. April 2026 bei s-kiba@web.de \n			\n				zurück
URL:https://enneagramm.eu/event/99867-gotha-das-innere-kind-im-enneagramm-vertiefungskurs-wally-kutscher-2026/
LOCATION:Augustinerkloster Gotha:
ORGANIZER;CN="Wally Kutscher":MAILTO:wallykutscher@gmail.com
END:VEVENT
BEGIN:VEVENT
DTSTART;VALUE=DATE:20260423
DTEND;VALUE=DATE:20260428
DTSTAMP:20260419T152902
CREATED:20260303T150646Z
LAST-MODIFIED:20260303T151608Z
UID:38745-1776924000-1777269599@enneagramm.eu
SUMMARY:97488 Schloss Craheim: Enneagramm Basis (Thomas Peter\, Ingrid Stahl)
DESCRIPTION:Enneagramm Basis: Sich selbst und andere verstehen \nMeistens gehen wir davon aus\, dass andere genau so denken\, fühlen und handeln wie wir selbst. Wir sind enttäuscht oder verärgert\, wenn die/der Partner/in\, Freunde oder Kollegen uns nicht zu verstehen scheinen.Die Typenlehre des Enneagramms mit ihren 9 Persönlichkeitsmustern lädt uns ein\, uns selbst und andere Menschen tiefer kennen zu lernen. Wir begegnen uns selber mit unseren Stärken und Schwächen und entdecken gleichzeitig staunend\, wie anders unsere Mitmenschen sind. Für jeden von uns öffnet sich ein persönlicher Entwicklungsweg\, der uns zu einem reichen\, von Gott erfüllten Leben führen will.Kenntnisse des Enneagramms werden nicht vorausgesetzt. \nTermin: Donnerstag\, 23. April 2026 – Sonntag\, 26. April 2026Kosten: Kursgebühr 150 € – zzgl. Verpflegung und Unterkunft im Schloss/Schwesternhaus mit Dusche/WC im Zimmer (EZ 288 € / DZ 261 €)\, oder im Schloss mit Dusche/WC am Gang (EZ 258 € / DZ 225 €)\, oder Franziskushof mit Dusche/WC am Gang (EZ 213 € / DZ 186 €)Leitung: Thomas Peter (katholischer Religionslehrer\, Referent in der Erwachsenenbildung\, Enneagrammtrainer (ÖAE)) und Ingrid Stahl (Dipl. Sozialpädagogin\, Heilpraktikerin für Psychotherapie nach dem Heilpraktikergesetz\, Enneagrammtrainerin (ÖAE) und Supervisorin i.A. (DGSV))Ort: Schloss Craheim\, Craheim 1\, 97488 Stadtlauringen (www.craheim.de)Anmeldung: unter www.craheim.de/seminare-freizeiten/enneagramm-basis-stahl-2026 \n			\n				zurück
URL:https://enneagramm.eu/event/97488-schloss-craheim-enneagramm-basis-thomas-peter-ingrid-stahl-april-2026/
LOCATION:Begegnungsstätte Schloss Craheim\, 97488 Stadtlauringen
ORGANIZER;CN="Thomas Peter":MAILTO:asut70@aol.com
END:VEVENT
BEGIN:VEVENT
DTSTART;TZID=Europe/Berlin:20260425T093000
DTEND;TZID=Europe/Berlin:20260425T163000
DTSTAMP:20260419T152902
CREATED:20251105T093833Z
LAST-MODIFIED:20251105T093836Z
UID:38374-1777109400-1777134600@enneagramm.eu
SUMMARY:35510 Butzbach: Mich selbst und andere besser verstehen - Basiswissen Enneagramm (Christine Jensen)
DESCRIPTION:Mich selbst und andere besser verstehen (Basiswissen Enneagramm) \nAntworten bietet das Enneagramm\, ein faszinierendes Persönlichkeits-Modell\, das neun verschiedene Charaktere beschreibt. Es lädt ein\, sich selbst tiefer kennen zu lernen. Jeder Mensch hat eines dieser neun Persönlichkeitsstile oder Charaktermuster stärker ausgeprägt als die anderen. Dies zeigt sich in typischen oft unbewusst ablaufenden Denk- und Verhaltensweisen. Gleichzeitig werden wir verstehen\, wie anders unsere Mitmenschen sind.Das Enneagramm kann uns im Rahmen des christlichen Glaubens dabei helfen\, dem Bild ähnlicher zu werden\, zu dem Gott uns geschaffen hat. \nIm Seminar werden wir die neun Muster des Enneagramms tiefer ergründen und unseren Blick erweitern. \nWohin könnte mein Entwicklungsweg gehen?Wie prägt mein Muster mein Leben?Was sind meine besonderen Gaben?Was vermeide ich? \nDas Entdecken des eigenen Musters geschieht im Seminar durch kurze theoretische Inputs und darauf aufbauenden Erfahrungs- und Wahrnehmungsübungen. \nTermin: Samstag\, 25.04.2026\, 09:30 – 16:30 UhrKursgebühr: 50\,00 € (inkl. Mittagsimbiss und Getränke)Veranstaltungsort: Geistliches Zentrum Nieder-Weisel\, Johanniterstraße 7\, 35510 Butzbach (dekanat-wetterau.ekhn.de/gelebter-glaube/geistliches-zentrum-nieder-weisel)Leitung: Christine Jensen\, Enneagramm-Trainerin (ÖAE)Anmeldung (TN-Zahl 16 Personen): bis 10.04.2026 unter info.geistliches.zentrum@johanniter.de \n			\n				zurück
URL:https://enneagramm.eu/event/35510-butzbach-mich-selbst-und-andere-besser-verstehen-basiswissen-enneagramm-april-2026/
LOCATION:Geistliches Zentrum Nieder-Weisel
END:VEVENT
BEGIN:VEVENT
DTSTART;TZID=Europe/Berlin:20260427T190000
DTEND;TZID=Europe/Berlin:20260427T213000
DTSTAMP:20260419T152902
CREATED:20260228T195029Z
LAST-MODIFIED:20260228T195031Z
UID:38740-1777316400-1777325400@enneagramm.eu
SUMMARY:Online per Zoom: Enneagramm als Weg zur Selbstannahme - Online-Enneagrammseminar zur Vertiefung (Friederike Spörl-Springer)
DESCRIPTION:„Enneagramm als Weg zur Selbstannahme“: Online-Enneagrammseminar zur Vertiefung \nWir erkunden\, wie unsere typischen Verhaltensmuster entstanden sind und welche inneren Bedürfnisse dahinterstehen. Wer dies versteht\, kann sich selbst mit mehr Verständnis und Mitgefühl begegnen. Durch Enneagrammlehre\, Reflexion\, Übungen und Austausch entwickeln wir Wege zu mehr Selbstmitgefühl und -annahme.Voraussetzungen: Grundkenntnisse im Enneagramm sowie zum eigenen Muster. \nTermin: Montag\, 27. April 2026\, von 19:00 bis 21:30 UhrGebühr: 25 EuroVeranstaltungsort: Videoplattform ZoomLeitung:  Friederike Spörl-Springer\, Enneagrammtrainerin (ÖAE)\, Referentin für Biografiearbeit (Lebensmutig e.V.)\, Coach (TEAM Benedikt)\, www.coaching-oberasbach.deWeitere Informationen und Anmeldung: Tel. 0171 6238485\, E-Mail: kontakt@coaching-oberasbach.de \n			\n				zurück
URL:https://enneagramm.eu/event/online-enneagramm-als-weg-zur-selbstannahme-april-2026/
LOCATION:Online per Zoom
END:VEVENT
END:VCALENDAR