BEGIN:VCALENDAR
VERSION:2.0
PRODID:-//enneagramm.eu - ECPv6.3.2//NONSGML v1.0//EN
CALSCALE:GREGORIAN
METHOD:PUBLISH
X-WR-CALNAME:enneagramm.eu
X-ORIGINAL-URL:https://enneagramm.eu
X-WR-CALDESC:Veranstaltungen für enneagramm.eu
REFRESH-INTERVAL;VALUE=DURATION:PT1H
X-Robots-Tag:noindex
X-PUBLISHED-TTL:PT1H
BEGIN:VTIMEZONE
TZID:Europe/Berlin
BEGIN:DAYLIGHT
TZOFFSETFROM:+0100
TZOFFSETTO:+0200
TZNAME:CEST
DTSTART:20260329T010000
END:DAYLIGHT
BEGIN:STANDARD
TZOFFSETFROM:+0200
TZOFFSETTO:+0100
TZNAME:CET
DTSTART:20261025T010000
END:STANDARD
END:VTIMEZONE
BEGIN:VEVENT
DTSTART;TZID=Europe/Berlin:20260703T140000
DTEND;TZID=Europe/Berlin:20260705T170000
DTSTAMP:20260423T142616
CREATED:20250701T170037Z
LAST-MODIFIED:20250701T170040Z
UID:38217-1783087200-1783270800@enneagramm.eu
SUMMARY:57632 Rott: EnneaGestalt-Weiterbildung\, Termin 6 von 6 (Neelam Heike Brombach)
DESCRIPTION:EnneaGestalt-Weiterbildung\nWER BIN ICH? Wenn wir dieser Frage nachspüren\, kommen wir zu der Erkenntnis\, dass wir mehr sind als unser alltägliches Verhalten\, unsere Gedankenkreise und unsere verwirrenden Gefühle. Wer den Zustand der Gegenwärtigkeit\, des bedingungslosen SEIN kennt\, trägt in sich eine Art Gewissheit. Und gleichzeitig stellt sich die Frage: Wie kann ich diese Ganzheit\, dieses Erleben des Einverstandenseins mit mir und der Welt wiederfinden?WER IST DER ANDERE? Das ist die zweite große Frage. Wir Menschen erfahren Sinn im Leben\, indem wir uns auf etwas oder jemanden beziehen. Unsere Gefühle\, Gedanken und unsere Handlungen entstehen in Bezug auf ein Gegenüber – ein vorhandenes oder fehlendes Gegenüber. Und was macht Beziehungen manchmal so schwierig?Ganz besonders interessiert uns die Frage – Wer ist der andere? – wenn wir mit unserer Arbeit hilfesuchende Menschen begleiten. \nEnneagramm\, Gestalt und der Weg zur GanzheitAm Anfang der Gestalttherapie stehen Fritz und Lore Perls. Fritz fordert uns auf\, zu konfrontieren\, was uns daran hindert\, unsere Ganzheit\, unsere echte Lebendigkeit zu leben. Sein Schüler und Kollege Claudio Naranjo hat den Gestaltansatz erweitert und mit dem psychologischen Enneagramm eine organische Ergänzung zur Gestalttherapie entwickelt. Beide Wege sind zusammengenommen wie ein Tor zu mehr Bewusstheit. Wir unterstützen damit unsere Klienten\, sich selbst auf die Spur zu kommen und sich aus dem neurotischen Leiden\, den Verstrickungen und Anhaftungen zu lösen.In dieser Weiterbildung werden Interessierte die verschiedenen Facetten der neun Ennea-Prototypen durch Übungen selbst erleben. Das hilft\, das Gespür für die neurotischen Verstrickungsmuster zu schulen.Jede der neun Fixierungen geht zurück auf eine primär verletzte Grundmotivation. Dabei geht es um das Bedürfnis nach Sicherheit\, Autonomie und Zugehörigkeit. Wo diese Bedürfnisse nicht gestillt wurden\, begann unsere Deformation. Die wiederum prägte unsere Persönlichkeit – die sich bei jedem anders zeigt und doch immer wieder ähnlich ist. So wurden von den Begründern des psychologischen Enneagramms neun Prototypen beobachtet und formuliert. Für die therapeutische Arbeit können diese neun Dynamiken eine Art Leitlinie bieten\, auf dem Weg zur Ganzheit von Körper\, Geist und Seele. \nHintergrundClaudio Naranjo (promovierter Mediziner + Facharzt für Psychiatrie) trifft Fritz Perls (Psychoanalytiker + Begründer der Gestalttherapie) und wird Gestalttherapeut. Beide wirken in den Jahren von 1960 – 1970 in Esalen Kalifornien. Naranjo folgt seiner inneren Suche nach Chile und entdeckt durch Oscar Ichazo das Enneagramm. Nach seinem Weg mit Ichazo entwickelt er in Selbsterfahrungs-Gruppen das psychologische Enneagramm. Seinem Buch „Gestalt – Präsenz\, Gewahrsein\, Verantwortung“ entspringt die Inspiration zu dieser Weiterbildung. \nFür wen ist diese Weiterbildung?Die EnneaGestalt-Weiterbildung richtet sich an Therapeut*innen\, Heilpraktiker*innen\, Coaches und Menschen auf dem Weg der Selbsterfahrung. Interessierte die keine gestalttherapeutische Ausbildung haben\, sind zu einem Vorgespräch eingeladen. \nTermine und Themen (6 Wochenenden\, jeweils Freitag 14 – 20 Uhr\, Samstag 10 – 20 Uhr\, Sonntag 10 – 17 Uhr):1. Wochenende: 05.-07. Dezember 2025\, Ennea-Gestalt-Einführung + Muster-Qualitäten (Selbsterforschung I)2. Wochenende: 06.-08. Februar 2026\, Ennea-Bauch-Triade „Instinkt und Autonomie“\, Subtypen (Selbsterforschung II)3. Wochenende: 13.-15. März 2026\, Ennea-Herz-Triade „Beziehung und Zugehörigkeit“\, ICH + DU I – Die Herausforderung in der Begleitung (Kontakt vs. Neurosen)4. Wochenende: 10.-12. April 2026\, Ennea-Kopf-Triade „Denken und Sicherheit“\, Flügel-Qualitäten (Selbsterforschung III)5. Wochenende: 22.-24. Mai 2026\, Die Komplexität der Entwicklungswege im psychologischen Enneagramm\, Ich + Du II – Von der Fixierung zur Bewusstheit (Beziehungsdynamik Triaden)6. Wochenende: 03.-05. Juli 2026\, Mein Weg – individuell\, schöpferisch\, präsent. Biografische Krisen mit dem Enneagramm verstehen\, in Anlehnung an die Held*innen-Reise. \nDie Wochenenden vertiefen jeweils das Erkennen\, wie jeder Mensch über eine der neun Qualitäten seine innere Strategie auf ganz eigene Weise gebildet hat. Über die Entwicklungs-Dynamiken entdecken wir unseren eigenen Weg zur KörperSeeleGeist-Ganzheit und verstehen besser\, wie sich andere Menschen auf die Spur kommen können. \nKursgebühr und Zahlung:Kursgebühr pro Person / Wochenende = 345 € (zzgl. persönliche Reise- und Übernachtungskosten \nAnzahlung bei Buchung: 150 €Die Restsumme in 5 Raten zu je 345 € und die letzte Rate über 195 €\, fällig jeweils 14 Tage vor den einzelnen Kurs-WochenendenDie Einmalzahlung der Gesamtsumme ist möglich.Übernachtungs- und Verpflegungskosten werden separat nach Aufwand abgerechnet. \nKursleitung und Kontakt: Neelam Heike Brombach (Enneagrammtrainerin ÖAE)\, kontakt@heikebrombach.de\, heikebrombach.de\, Fon: 0151 24075123Veranstaltungsort: Schwarzpappelhof (Seminar-\, Heil-\, Kultur- und Gästehaus)\, Bergstrasse 3 in 57632 Rott (Naturpark Rhein/Westerwald)\, schwarzpappelhof.de \n			\n				zurück
URL:https://enneagramm.eu/event/57632-rott-enneagestalt-weiterbildung-2026-6/
LOCATION:Schwarzpappelhof\, Bergstraße 3\, Rott\, 57632\, Deutschland
ORGANIZER;CN="Heike Brombach":MAILTO:info@psychotherapie-lindlar.de
END:VEVENT
BEGIN:VEVENT
DTSTART;TZID=Europe/Berlin:20260703T180000
DTEND;TZID=Europe/Berlin:20260705T130000
DTSTAMP:20260423T142616
CREATED:20251228T185823Z
LAST-MODIFIED:20251228T185825Z
UID:38558-1783101600-1783256400@enneagramm.eu
SUMMARY:97488 Schloss Craheim: Enneagramm für junge Leute (bis ca. 40 Jahre) (Heike Wellisch\, Johanna Stemmle)
DESCRIPTION:Enneagramm für junge Leute (bis ca. 40 Jahre) \nWir wollen unsere eigene Persönlichkeit verstehen lernen. Wie schauen wir auf die Welt? Was sind unsere besonderen Gaben? Welche charakteristischen Persönlichkeitsmerkmale prägen uns? Und so in unsere ganz eigene Spur im Leben finden\, aber auch unsere Unterschiedlichkeit kennen und wertschätzen lernen. \nVorkenntnisse des Enneagramms sind hilfreich\, aber nicht unbedingt erforderlich. \nTermin: Freitag\, 03.07.2026\, 18:00 Uhr bis Sonntag\, 05.07.2026\, ca. 13:00 UhrKursgebühr: 60 Euro Kursgebühr zzgl. Übernachtung & Vollpension (ab 102 Euro)Veranstaltungsort: Begegnungsstätte Schloss Craheim bei Schweinfurt\, Craheim 1\, 97488 Stadtlauringen (www.craheim.de)Leitung: Heike Wellisch\, Enneagrammtrainerin (ÖAE) und Johanna Stemmle (Lebensgemeinschaft Schloss Craheim)Anmeldung & Infos: https://www.craheim.de/seminare-freizeiten/enneagramm-junge-leute-2026/Ansprechpartnerin: Heike Wellisch\, unter 0175 – 1402918 oder enneagramm-muenchen@t-online.de \n			\n				zurück
URL:https://enneagramm.eu/event/97488-schloss-craheim-enneagramm-fuer-junge-leute-2026/
LOCATION:Begegnungsstätte Schloss Craheim\, 97488 Stadtlauringen
END:VEVENT
BEGIN:VEVENT
DTSTART;TZID=Europe/Berlin:20260703T193000
DTEND;TZID=Europe/Berlin:20260705T123000
DTSTAMP:20260423T142616
CREATED:20250413T173935Z
LAST-MODIFIED:20250517T125748Z
UID:37923-1783107000-1783254600@enneagramm.eu
SUMMARY:59519 Möhnesee: Enneagramm-Einführungsseminar (Julia Wendzinski)
DESCRIPTION:Enneagramm-Einführungsseminar \nDas Enneagramm – Mich besser verstehen lernenEin Weg zur Freiheit der Seele \nDas Enneagramm ist ein hilfreiches Instrument\, sich selbst und andere besser verstehen zu lernen. Es ermöglicht uns nicht nur\, dies zu erkennen\, sondern zeigt auch Wege zur Entwicklung und bietet nützliche Anregungen für die Bewältigung unseres Alltags.Nicht zuletzt findet das Enneagramm zunehmend Anwendung bei Psychologen\, Theologen\, Personalentwicklern und Führungskräften.Das Enneagramm beschreibt unterschiedliche Charaktermuster.Durch das Erkennen des eigenen Musters lernen wir uns liebevoll anzunehmen und können in den inneren Frieden kommen\, um unsere Potentiale\, Begabungen\, Ressourcen oder Kernkompetenzen entdecken und entfalten zu können. Ebenso können wir in Beziehungen\, andere Menschen\, besser verstehen und annehmen lernen. \nDas Enneagramm liefert uns mit seinen 9 Grundmustern hilfreiche und praktisch anwendbare Erkenntnisse zu folgenden Fragen:– Wie ist meine Wahrnehmung fixiert? Was nehme ich an Informationen auf und was beachte ich gar nicht?– Welche wesentlichen Denkstrukturen und damit auch Verhaltensmuster bestimmen meine Persönlichkeit?– Warum reagiere ich so und nicht anders im Umgang mit mir selbst und anderen Menschen?– Was kann ich tun\, um mich persönlich und spirituell weiterzuentwickeln? \nDiese Fragen hat sich wahrscheinlich jeder schon einmal gestellt. Aber gab es auch zufriedenstellende und vor allem hilfreiche Antworten? Das Enneagramm kann helfen Antworten hierfür zu finden.In diesem Seminar werden wir uns mit den Grundlagen des Enneagramms beschäftigen\, und uns über Vorträge\, anschauliche Beispiele\, Wahrnehmungsübungen\, Geschichten\, Selbstreflexionen und Diskussionen an die drei Zentren und die neun Persönlichkeitstypen „herantasten”. Es wird bei jedem Teilnehmer Aha-Effekte geben\,wenn die spezifischen Denk- und Verhaltensmuster der einzelnen Typen aufgedeckt werden. \nTermin: Freitag\, 3. Juli 2026 (19.30 – 21.30 Uhr) / Samstag\, 4. Juli 2025 (09.30 – 21.30 Uhr) / Sonntag\, 5. Juli 2025 (09.30 – 12.30 Uhr) / 16 Unterrichtsstunden zu je 45 MinutenGesamtkosten im EZ: 480\,00 € (Kursgebühr + U/V) zu zahlen an das Bildungswerk Bochum; davon Kosten für Übernachtung\, Verpflegung und Steuer im EZ: 260\,00 €Veranstaltungsort: Tagungshaus Schnapp’s Hof\, Schnapp’s Hof 3\, 59519 Möhnesee (https://schnapps-hof.awo-ww.de)Leitung: Julia Wendzinski (https://enneagramm-online.de/enneagramm-seminare)Anmeldung und Info bei Veranstalter: Freies Bildungswerk Bochum\, Oskar-Hoffmann-Straße 25\, 44789 Bochum (https://www.fbw-bochum.de)\, Anmeldung unter https://www.fbw-bochum.de/mobil/programm/?id=2953&kurs=26301Kursnummer: 26301B \n			\n				zurück
URL:https://enneagramm.eu/event/59519-mohnesee-enneagramm-einfuehrungsseminar-juli-2026/
LOCATION:Tagungshaus Schnapp’s Hof
ORGANIZER;CN="Julia Wendzinski":MAILTO:julia_we@web.de
END:VEVENT
BEGIN:VEVENT
DTSTART;TZID=Europe/Berlin:20260708T190000
DTEND;TZID=Europe/Berlin:20260708T220000
DTSTAMP:20260423T142616
CREATED:20251007T171647Z
LAST-MODIFIED:20260228T192318Z
UID:38353-1783537200-1783548000@enneagramm.eu
SUMMARY:90403 Nürnberg: EnneaLounge Juli 2026 (Friederike Spörl-Springer\, Michael Springer)
DESCRIPTION:EnneagrammLounge: Vertiefender Austausch zu Enneagramm und Leben \nDie Beschäftigung mit dem Enneagramm bietet hilfreiche Erkenntnisse zur Persönlichkeitsentwicklung und für Beziehungen. Hierfür ist der Austausch mit anderen enneagrammkundigen Menschen wertvoll und ertragreich. Mit der Enneagramm-Lounge wird es halbjährlich eine Gelegenheit dazu geben. Das moderierte Gespräch findet in der neu gestalteten Lounge in haus eckstein in Nürnberg statt. Grundkenntnisse zum Enneagramm und des eigenen Persönlichkeits-Musters werden vorausgesetzt. Gesprächsthemen werden gemeinsam ausgewählt. Diesbezügliche Wünsche können im Vorfeld (am besten mit der Anmeldung) eingebracht werden. \nTermin: Mittwoch\, 8. Juli 2026\, von 19:00 bis 22:00 UhrGebühr: 5\,00 € Barzahlung vor Ort\, (für Verpflegung)Veranstaltungsort: Haus Eckstein\, Burgstraße 1-3\, 90403 Nürnberg (https://www.eckstein-evangelisch.de)Leitung: Diakonin Friederike Spörl-Springer (Enneagramm-Trainerin (ÖAE)\, Coach (TEAM Benedikt)) und Michael Springer\, Enneagrammtrainer (ÖAE) in Ausbildung\, Apotheker\, Coach (TEAM Benedikt) Info: https://www.evangelische-termine.de/d-7900863Anmeldung (möglichst bis zwei Tage vorher): bei Friederike Spörl-Springer unter kontakt@coaching-oberasbach.de oder telefonisch unter 0171 6238485 \n			\n				zurück
URL:https://enneagramm.eu/event/90403-nuernberg-ennealounge-juli-2026/
LOCATION:Bildungshaus Eckstein\, Burgstraße 1-3\, 90403 Nürnberg
END:VEVENT
BEGIN:VEVENT
DTSTART;TZID=Europe/Berlin:20260717T180000
DTEND;TZID=Europe/Berlin:20260719T130000
DTSTAMP:20260423T142616
CREATED:20250917T181206Z
LAST-MODIFIED:20250917T181209Z
UID:38314-1784311200-1784466000@enneagramm.eu
SUMMARY:93152 Nittendorf (Haus Werdenfels): Enneagramm-Vertiefungskurs – die Subtypen (Thomas Peter)
DESCRIPTION:Enneagramm – Vertiefungskurs: Die Subtypen \nWer die neun Persönlichkeitsmuster des Enneagramms bereits kennen gelernt hat\, kann sehr erstaunt darüber sein\, wie unterschiedlich Menschen sind\, obwohl sie dem gleichen Typmuster angehören. Wirklich verständlich wird dies erst durch einen tieferen Blick in die Dynamik des Enneagramms\, denn jedes der neun Muster im Enneagramm teilt sich nochmals auf in drei sogenannte „Subtypen“. Das Verständnis unseres Subtyps lässt uns unsere Art in der Welt zu sein in einer neuen Tiefe verstehen. Die Kenntnis des eigenen Subtyps kann deshalb hilfreich oder sogar Voraussetzung sein\, um das eigene Muster sicher zu finden. Gleichzeitig prägt unser Subtyp die Art\, wie wir Beziehungen zu anderen Menschen leben und brauchen. \nDieses Wochenende ist für alle\, die das Enneagramm schon kennen und sich selbst darin bereits entdeckt haben. \nTermin: Freitag\, 17. Juli 2026\, 18:00 Uhr – Sonntag\, 19. Juli 2026\, 13:00 UhrKosten: Kursgebühr 100\,00 €\, zzgl. Verpflegung und Unterkunft (145\,00 € im EZ mit Du/WC\, 135\,00 € im EZ ohne Du/WC)Leitung: Thomas Peter (katholischer Religionslehrer\, Referent in der Erwachsenenbildung\, Enneagrammtrainer (ÖAE))Ort: Haus Werdenfels\, Waldweg 15\, Eichhofen\, 93152 Nittendorf bei Regensburg (www.haus-werdenfels.de)Anmeldung: unter https://www.haus-werdenfels.de/seminare/enneagramm-vertiefungskurs-die-subtypen-10da07c4cd71400b91f524d01eae6b2c/ \n			\n				zurück
URL:https://enneagramm.eu/event/93152-nittendorf-haus-werdenfels-enneagramm-vertiefungskurs-die-subtypen-thomas-peter-2026/
LOCATION:Haus Werdenfels
ORGANIZER;CN="Thomas Peter":MAILTO:asut70@aol.com
END:VEVENT
BEGIN:VEVENT
DTSTART;TZID=Europe/Berlin:20260727T150000
DTEND;TZID=Europe/Berlin:20260731T131500
DTSTAMP:20260423T142616
CREATED:20251105T121309Z
LAST-MODIFIED:20251105T121356Z
UID:38398-1785164400-1785503700@enneagramm.eu
SUMMARY:59955 Winterberg: Ich stelle mich – meiner Geschichte\, meinen Brüchen und meinem Glück (Margit Skopnik-Lambach\, Karin Steinberg)
DESCRIPTION:Ich stelle mich – meiner Geschichte\, meinen Brüchen und meinem Glück (Bibliodrama-Woche) \nJedes Leben ist vollgepackt mit schönen und schweren Erlebnissen. Oft können wir erst im Nachhinein sehen\, welches vermeintliche „Pech“ letzten Endes ein Glück für uns war.In dieser Bibliodrama-Woche nehmen wir uns biblische Personen und ihre besondere Geschichte vor. Wir spüren verschiedenen Sta- tionen ihres Lebens nach. Dazu tauchen wir mit allen Sinnen in den Bibeltext ein. Wir wählen Worte\, die uns ansprechen – und entdecken vielleicht ein „Leit-Thema“.Beim Spielen der Geschichte erkennen wir oft\, was wir für unser eigenes Leben mitnehmen können… \nTermin: Montag\, 27.07.2026\, 15:00 Uhr – Freitag\, 31.07.2026\, 13:15 UhrLeitung: Margit Skopnik-Lambach (Bibliodrama-Leiterin) und Karin Steinberg (Bibliodrama-Leiterin)Kosten: 560 € (darin enthalten sind 124 € Unterkunft und 172 € Verpflegung)Veranstaltungsort: St. Bonifatius Bildungs- und Exerzitienhaus Elkeringhausen\, Bonifatiusweg 1\, 59955 Winterberg (www.bonifatius-elkeringhausen.de)Anmeldung: unter info@bonifatius-elkeringhausen.de \n			\n				zurück
URL:https://enneagramm.eu/event/59955-winterberg-ich-stelle-mich-meiner-geschichte-meinen-bruechen-und-meinem-glueck-2026/
LOCATION:Bildungsstätte St. Bonifatius\, Bonifatiusweg 1\, 59955 Winterberg-Elkeringhausen\, Deutschland
ORGANIZER;CN="Margit Skopnik-Lambach":MAILTO:Margit.Lambach@gmx.de
END:VEVENT
END:VCALENDAR