BEGIN:VCALENDAR
VERSION:2.0
PRODID:-//enneagramm.eu - ECPv6.3.2//NONSGML v1.0//EN
CALSCALE:GREGORIAN
METHOD:PUBLISH
X-ORIGINAL-URL:https://enneagramm.eu
X-WR-CALDESC:Veranstaltungen für enneagramm.eu
REFRESH-INTERVAL;VALUE=DURATION:PT1H
X-Robots-Tag:noindex
X-PUBLISHED-TTL:PT1H
BEGIN:VTIMEZONE
TZID:Europe/Berlin
BEGIN:DAYLIGHT
TZOFFSETFROM:+0100
TZOFFSETTO:+0200
TZNAME:CEST
DTSTART:20260329T010000
END:DAYLIGHT
BEGIN:STANDARD
TZOFFSETFROM:+0200
TZOFFSETTO:+0100
TZNAME:CET
DTSTART:20261025T010000
END:STANDARD
END:VTIMEZONE
BEGIN:VEVENT
DTSTART;TZID=Europe/Berlin:20260708T190000
DTEND;TZID=Europe/Berlin:20260708T220000
DTSTAMP:20260423T161656
CREATED:20251007T171647Z
LAST-MODIFIED:20260228T192318Z
UID:38353-1783537200-1783548000@enneagramm.eu
SUMMARY:90403 Nürnberg: EnneaLounge Juli 2026 (Friederike Spörl-Springer\, Michael Springer)
DESCRIPTION:EnneagrammLounge: Vertiefender Austausch zu Enneagramm und Leben \nDie Beschäftigung mit dem Enneagramm bietet hilfreiche Erkenntnisse zur Persönlichkeitsentwicklung und für Beziehungen. Hierfür ist der Austausch mit anderen enneagrammkundigen Menschen wertvoll und ertragreich. Mit der Enneagramm-Lounge wird es halbjährlich eine Gelegenheit dazu geben. Das moderierte Gespräch findet in der neu gestalteten Lounge in haus eckstein in Nürnberg statt. Grundkenntnisse zum Enneagramm und des eigenen Persönlichkeits-Musters werden vorausgesetzt. Gesprächsthemen werden gemeinsam ausgewählt. Diesbezügliche Wünsche können im Vorfeld (am besten mit der Anmeldung) eingebracht werden. \nTermin: Mittwoch\, 8. Juli 2026\, von 19:00 bis 22:00 UhrGebühr: 5\,00 € Barzahlung vor Ort\, (für Verpflegung)Veranstaltungsort: Haus Eckstein\, Burgstraße 1-3\, 90403 Nürnberg (https://www.eckstein-evangelisch.de)Leitung: Diakonin Friederike Spörl-Springer (Enneagramm-Trainerin (ÖAE)\, Coach (TEAM Benedikt)) und Michael Springer\, Enneagrammtrainer (ÖAE) in Ausbildung\, Apotheker\, Coach (TEAM Benedikt) Info: https://www.evangelische-termine.de/d-7900863Anmeldung (möglichst bis zwei Tage vorher): bei Friederike Spörl-Springer unter kontakt@coaching-oberasbach.de oder telefonisch unter 0171 6238485 \n			\n				zurück
URL:https://enneagramm.eu/event/90403-nuernberg-ennealounge-juli-2026/
LOCATION:Bildungshaus Eckstein\, Burgstraße 1-3\, 90403 Nürnberg
END:VEVENT
END:VCALENDAR