BEGIN:VCALENDAR
VERSION:2.0
PRODID:-//enneagramm.eu - ECPv6.3.2//NONSGML v1.0//EN
CALSCALE:GREGORIAN
METHOD:PUBLISH
X-ORIGINAL-URL:https://enneagramm.eu
X-WR-CALDESC:Veranstaltungen für enneagramm.eu
REFRESH-INTERVAL;VALUE=DURATION:PT1H
X-Robots-Tag:noindex
X-PUBLISHED-TTL:PT1H
BEGIN:VTIMEZONE
TZID:Europe/Berlin
BEGIN:DAYLIGHT
TZOFFSETFROM:+0100
TZOFFSETTO:+0200
TZNAME:CEST
DTSTART:20260329T010000
END:DAYLIGHT
BEGIN:STANDARD
TZOFFSETFROM:+0200
TZOFFSETTO:+0100
TZNAME:CET
DTSTART:20261025T010000
END:STANDARD
END:VTIMEZONE
BEGIN:VEVENT
DTSTART;TZID=Europe/Berlin:20260625T180000
DTEND;TZID=Europe/Berlin:20260626T150000
DTSTAMP:20260423T142748
CREATED:20260310T165933Z
LAST-MODIFIED:20260322T215948Z
UID:38763-1782410400-1782486000@enneagramm.eu
SUMMARY:Vorseminar: Musteraspekte imaginativ erkunden mit SoulCollage® (Friederike Spörl-Springer)
DESCRIPTION:Alle Informationen zum Vorseminar 2026 mit Friederike Spörl-Springer finden sich hier.
URL:https://enneagramm.eu/event/vorseminar-2026/
LOCATION:Kloster Hünfeld\, 36088 Hünfeld
ORGANIZER;CN="%C3%96AE":MAILTO:info@enneagramm.eu
END:VEVENT
BEGIN:VEVENT
DTSTART;TZID=Europe/Berlin:20260626T160000
DTEND;TZID=Europe/Berlin:20260628T130000
DTSTAMP:20260423T142748
CREATED:20251117T152227Z
LAST-MODIFIED:20260310T170848Z
UID:38538-1782489600-1782651600@enneagramm.eu
SUMMARY:Jahrestagung 2026
DESCRIPTION:Alle Informationen zur Jahrestagung 2026 finden sich hier.
URL:https://enneagramm.eu/event/jahrestagung-2026/
LOCATION:Kloster Hünfeld\, 36088 Hünfeld
ORGANIZER;CN="%C3%96AE":MAILTO:info@enneagramm.eu
END:VEVENT
END:VCALENDAR