BEGIN:VCALENDAR
VERSION:2.0
PRODID:-//enneagramm.eu - ECPv6.3.2//NONSGML v1.0//EN
CALSCALE:GREGORIAN
METHOD:PUBLISH
X-ORIGINAL-URL:https://enneagramm.eu
X-WR-CALDESC:Veranstaltungen für enneagramm.eu
REFRESH-INTERVAL;VALUE=DURATION:PT1H
X-Robots-Tag:noindex
X-PUBLISHED-TTL:PT1H
BEGIN:VTIMEZONE
TZID:Europe/Berlin
BEGIN:DAYLIGHT
TZOFFSETFROM:+0100
TZOFFSETTO:+0200
TZNAME:CEST
DTSTART:20260329T010000
END:DAYLIGHT
BEGIN:STANDARD
TZOFFSETFROM:+0200
TZOFFSETTO:+0100
TZNAME:CET
DTSTART:20261025T010000
END:STANDARD
END:VTIMEZONE
BEGIN:VEVENT
DTSTART;VALUE=DATE:20260612
DTEND;VALUE=DATE:20260616
DTSTAMP:20260423T125332
CREATED:20251105T113028Z
LAST-MODIFIED:20251105T113030Z
UID:38393-1781244000-1781503199@enneagramm.eu
SUMMARY:37290 Kloster Germerode: Versöhnung mit meiner Prägung und Familiengeschichte (Gudrun Banniza-Raftopoulos\, Margit Skopnik-Lambach)
DESCRIPTION:Versöhnung mit meiner Prägung und Familiengeschichte \nMit Hilfe des Enneagramms und verschiedenen Übungs-Einheiten. \nTermin: Freitag\, 12.06.2026 – Sonntag\, 14.06.2026Leitung: Gudrun Banniza-Raftopoulos\, Margit Skopnik-LambachVeranstaltungsort: Kloster Germerode\, Klosterfreiheit 34\, 37290 Meißner-Germerode\, www.kloster-germerode.deAnmeldung: unter tagungshaus@klostergermerode.de \n			\n				zurück
URL:https://enneagramm.eu/event/37290-kloster-germerode-versoehnung-mit-meiner-praegung-und-familiengeschichte-2026/
LOCATION:Kloster Germerode\, Klosterfreiheit 34\, 37290 Meißner-Germerode\, Deutschland
END:VEVENT
BEGIN:VEVENT
DTSTART;TZID=Europe/Berlin:20260613T093000
DTEND;TZID=Europe/Berlin:20260613T190000
DTSTAMP:20260423T125332
CREATED:20251111T134059Z
LAST-MODIFIED:20260120T192123Z
UID:38434-1781343000-1781377200@enneagramm.eu
SUMMARY:72574 Bad Urach: Enneagramm & Beziehungen I - 9x Beziehungsverhalten\, Aufbaukurs 1 (Gabi Brandt\, Kathrin Messner)
DESCRIPTION:Enneagramm & Beziehungen I – 9x Beziehungsverhalten (Aufbaukurs 1) \nDer Kurs vertieft die neun Charaktermuster des Enneagramms unter Beziehungsaspekten: Wie bin ich in der Welt? Wie gehe ich mit anderen Menschen in Kontakt? Beleuchtet werden der jeweils „typische“ Aufmerksamkeitsstil\, das Kontaktverhalten\, die Beziehungssehnsucht und die Verwicklungsdynamik. Je nach Bedarf werden auch der Entwicklungsweg zum „inneren Kind“ und die Arbeit mit dem Trostpunkt aufgezeigt. Dabei findet auch die spirituelle Dimension dieses inneren Weges ihren Platz. – Ein methodisch abwechslungsreicher Tag anhand anschaulicher Beispiele. \nVoraussetzung: Grundlegende Kenntnisse über das Enneagramm \nHinweis: Bei eigenen psychischen Einschränkungen wird um vorherige Kontaktaufnahme unter kathrin.messner@elkw.de gebeten. \nTermin: Samstag\, 13.06.2026\, 09.30 bis 19.00 Uhr (endet mit dem Abendessen)Kosten: 135\,00 € alles inklusive (Vollpension\, Kursgebühren\, Materialien)Leitung: Dipl.-Psych. Gabi Brandt\, Psychologin\, Enneagrammtrainerin (ÖAE) und Dr. Kathrin Messner\, Geschäftsführerin\, Lehrerin\, Enneagrammtrainerin (ÖAE)Veranstaltungsort: Evang. Tagungsstätte Stift Urach\, Bismarckstraße 12\, 72574 Bad Urach (stifturach.de). Es gelten die Stornobedingungen der Evang. Tagungsstätte Stift Urach.Veranstalter: Evang. Bildung Reutlingen\, Pestalozzistr. 54\, 72762 Reutlingen (www.evang-bildung-reutlingen.de)Anmeldung bis 29.04.2026: unter https://www.evang-bildung-reutlingen.de/angebote/kw/bereich/kursdetails/kurs/F26R2201/kursname/Enneagramm%20Beziehungen%20-%20Aufbaukurs%20I/kategorie-id/81/Kooperation: keb Bildungswerk Reutlingen\, Einkehrhaus Stift Urach \n			\n				zurück
URL:https://enneagramm.eu/event/72574-bad-urach-enneagramm-und-beziehungen-1-9x-beziehungsverhalten-aufbaukurs-1-2026/
LOCATION:Stift Urach\, Bismarckstraße 12\, 72574 Bad Urach
END:VEVENT
END:VCALENDAR