BEGIN:VCALENDAR
VERSION:2.0
PRODID:-//enneagramm.eu - ECPv6.3.2//NONSGML v1.0//EN
CALSCALE:GREGORIAN
METHOD:PUBLISH
X-WR-CALNAME:enneagramm.eu
X-ORIGINAL-URL:https://enneagramm.eu
X-WR-CALDESC:Veranstaltungen für enneagramm.eu
REFRESH-INTERVAL;VALUE=DURATION:PT1H
X-Robots-Tag:noindex
X-PUBLISHED-TTL:PT1H
BEGIN:VTIMEZONE
TZID:Europe/Berlin
BEGIN:DAYLIGHT
TZOFFSETFROM:+0100
TZOFFSETTO:+0200
TZNAME:CEST
DTSTART:20260329T010000
END:DAYLIGHT
BEGIN:STANDARD
TZOFFSETFROM:+0200
TZOFFSETTO:+0100
TZNAME:CET
DTSTART:20261025T010000
END:STANDARD
END:VTIMEZONE
BEGIN:VEVENT
DTSTART;TZID=Europe/Berlin:20260318T180000
DTEND;TZID=Europe/Berlin:20260322T130000
DTSTAMP:20260419T183306
CREATED:20251105T110357Z
LAST-MODIFIED:20251105T110400Z
UID:38388-1773856800-1774184400@enneagramm.eu
SUMMARY:37290 Kloster Germerode: Gott begegnen: In mir – in Dir – in der Stille der Natur... (Martina Heiland\, Margit Skopnik-Lambach)
DESCRIPTION:Gott begegnen: In mir – in Dir – in der Stille der Natur… \nHeilsame Impulse in der Fastenzeit mit Wanderungen und Bibliodrama-Abenden im Kloster Germerode:– Morgendliche Einstimmung in den Tag– Achtsam unterwegs in Gottes wunderbarer Schöpfung– Zeit zum Reden\, Zeit zum Singen\, Zeit zum Schweigen– Übungen aus dem Feldenkrais-Spektrum– Mit allen Sinnen biblische Texte wahrnehmen– Raum und Zeit für Gottesbegegnung \nTermin: Mittwoch\, 18.03.2026\, 18:00 Uhr – Sonntag\, 22.03.2026\, 13:00 UhrLeitung: Martina Heiland\, Margit Skopnik-LambachKosten: Kursgebühr 130 Euro\, Übernachtung und Verpflegung (vegetarisch) 350 Euro im EZ bzw. 320 Euro im DZVeranstaltungsort: Kloster Germerode\, Klosterfreiheit 34\, 37290 Meißner-Germerode\, www.kloster-germerode.deAnmeldung: unter tagungshaus@klostergermerode.de \n			\n				zurück
URL:https://enneagramm.eu/event/37290-kloster-germerode-gott-begegnen-in-mir-in-dir-in-der-stille-der-natur-2026/
LOCATION:Kloster Germerode\, Klosterfreiheit 34\, 37290 Meißner-Germerode\, Deutschland
END:VEVENT
END:VCALENDAR