BEGIN:VCALENDAR
VERSION:2.0
PRODID:-//enneagramm.eu - ECPv6.3.2//NONSGML v1.0//EN
CALSCALE:GREGORIAN
METHOD:PUBLISH
X-ORIGINAL-URL:https://enneagramm.eu
X-WR-CALDESC:Veranstaltungen für enneagramm.eu
REFRESH-INTERVAL;VALUE=DURATION:PT1H
X-Robots-Tag:noindex
X-PUBLISHED-TTL:PT1H
BEGIN:VTIMEZONE
TZID:Europe/Berlin
BEGIN:DAYLIGHT
TZOFFSETFROM:+0100
TZOFFSETTO:+0200
TZNAME:CEST
DTSTART:20260329T010000
END:DAYLIGHT
BEGIN:STANDARD
TZOFFSETFROM:+0200
TZOFFSETTO:+0100
TZNAME:CET
DTSTART:20261025T010000
END:STANDARD
END:VTIMEZONE
BEGIN:VEVENT
DTSTART;TZID=Europe/Berlin:20260227T190000
DTEND;TZID=Europe/Berlin:20260228T190000
DTSTAMP:20260419T181811
CREATED:20250827T090404Z
LAST-MODIFIED:20250827T093037Z
UID:38261-1772218800-1772305200@enneagramm.eu
SUMMARY:90403 Nürnberg: Enneagramm-Modul II - Entwicklung (Klaus Pünder\, Thomas Peter)
DESCRIPTION:Enneagramm-Modul II: Entwicklung \n„Das Rad der Verwandlung darf nicht stillstehen\, sonst fällt es um“ (C. G. Jung) \nGeeignet für Teilnehmer\, die das Enneagramm durch einen Einführungskurs oder durch Bücher bereits kennen und ihren eigenen Persönlichkeitstyp schon entdeckt haben. Diesmal werden wir uns vor allem mit der inneren Dynamik und den Entwicklungsstufen beschäftigen. Unser Charaktermuster ist uns zwar schon in die Wiege gelegt\, aber innerhalb dieses Musters können wir uns zu immer reiferen Persönlichkeiten weiterentwickeln. Die Entwicklung sieht bei jedem Muster etwas anders aus\, also neun Glückskorridore\, die unterschiedliche Knackpunkte haben. Neben Fortschritten sind Rückfälle ganz normal. Die sog. „Entwicklungs- und Stresspunkte“ werden wiederholt\, denn ihre Kenntnis ist für das Verständnis und die Entwicklung des eigenen Musters sehr hilfreich. \nTermin: Freitag\, 27.02.2026\, 19:00 bis 21:30 Uhr – Samstag\, 28.02.2026\, 09:30 bis 17:00 Uhr. Am Samstag ist eine Mittagspause vorgesehen\, für Getränke ist gesorgt. Unterbringung und Verpflegung bitte selbständig.Kursgebühr: 98 Euro\, ermäßigt wenigerVeranstaltungsort: Spirituelles Zentrum im Eckstein\, Burgstr. 1-3\, Eckstein\, 90403 Nürnberg\, im schönen Meditationsraum im 5. Stock nah am Himmel (www.spirituelles-zentrum-im-eckstein.de). Parkplatzsituation ungünstig.Leitung: „Peter und der Pünder“ – Thomas Peter (Religionslehrer\, Enneagrammlehrer ÖAE) und Dr. med. Klaus Pünder (Augenarzt\, Autor\, Enneagrammlehrer ÖAE)Anmeldung bis ca. 2 Wochen vor Seminar (ca. 12 TN): Spirituelles Zentrum im Eckstein\, 0911-214-2121 \n			\n				zurück
URL:https://enneagramm.eu/event/90403-nuernberg-enneagramm-modul-ii-entwicklung-2026/
LOCATION:Spirituelles Zentrum im Eckstein
ORGANIZER;CN="Thomas Peter":MAILTO:asut70@aol.com
END:VEVENT
END:VCALENDAR