BEGIN:VCALENDAR
VERSION:2.0
PRODID:-//enneagramm.eu - ECPv6.3.2//NONSGML v1.0//EN
CALSCALE:GREGORIAN
METHOD:PUBLISH
X-WR-CALNAME:enneagramm.eu
X-ORIGINAL-URL:https://enneagramm.eu
X-WR-CALDESC:Veranstaltungen für enneagramm.eu
REFRESH-INTERVAL;VALUE=DURATION:PT1H
X-Robots-Tag:noindex
X-PUBLISHED-TTL:PT1H
BEGIN:VTIMEZONE
TZID:Europe/Berlin
BEGIN:DAYLIGHT
TZOFFSETFROM:+0100
TZOFFSETTO:+0200
TZNAME:CEST
DTSTART:20260329T010000
END:DAYLIGHT
BEGIN:STANDARD
TZOFFSETFROM:+0200
TZOFFSETTO:+0100
TZNAME:CET
DTSTART:20261025T010000
END:STANDARD
END:VTIMEZONE
BEGIN:VEVENT
DTSTART;TZID=Europe/Berlin:20260126T193000
DTEND;TZID=Europe/Berlin:20260126T211500
DTSTAMP:20260419T200145
CREATED:20251112T104721Z
LAST-MODIFIED:20251112T104724Z
UID:38471-1769455800-1769462100@enneagramm.eu
SUMMARY:Online (Microsoft-Teams oder Zoom): Das Enneagramm – eine Landkarte der Seele\, Einführungskurs (Markus Becker)
DESCRIPTION:Das Enneagramm – eine Landkarte der Seele (Einführungskurs) \nDas Enneagramm (griechisch: ennea = neun) ist eine Typologie\, die humorvoll und tiefsinnig 9 Charaktermuster beschreibt. Es zeigt die Stärken und Schwächen und lässt uns die inneren Antriebskräfte verstehen\, aus denen heraus wir so leben wie wir leben.Das Enneagramm bietet damit eine innere Landkarte\, die Orientierung geben kann. Sie zeigt sowohl persönliche Entwicklungsmöglichkeiten wie auch die Dynamik immer wiederkehrender Konflikte.Der Einführungskurs vermittelt ein Grundverständnis der 9 Enneagramm-Typen und eine Einordnung in die sehr unterschiedlichen Anwendungsfelder. \nTermine: 4x montags von 19:30 bis ca. 21:15 Uhr (26.01.\, 02.02.\, 09.02.\,16.02.2026)Kursgebühr: 100\,00 €Veranstaltungsort: Online (Microsoft-Teams oder Zoom)Leitung: Markus Becker\, Diplom-Psychologe und Evangelischer Theologe\, Paar- und Familientherapeut\, Autor des „Enneagramm-Typen-Tests“ (imClaudius-Verlag)Anmeldung: unter https://www.beratungspraxis-freiburg.de/Organisatorisches/Themen-und-Veranstaltungen/ \n			\n				zurück
URL:https://enneagramm.eu/event/online-das-enneagramm-eine-landkarte-der-seele-einuehrungskurs-januar-2026/
LOCATION:Online – Veranstaltung
END:VEVENT
END:VCALENDAR