BEGIN:VCALENDAR
VERSION:2.0
PRODID:-//enneagramm.eu - ECPv6.3.2//NONSGML v1.0//EN
CALSCALE:GREGORIAN
METHOD:PUBLISH
X-WR-CALNAME:enneagramm.eu
X-ORIGINAL-URL:https://enneagramm.eu
X-WR-CALDESC:Veranstaltungen für enneagramm.eu
REFRESH-INTERVAL;VALUE=DURATION:PT1H
X-Robots-Tag:noindex
X-PUBLISHED-TTL:PT1H
BEGIN:VTIMEZONE
TZID:Europe/Berlin
BEGIN:DAYLIGHT
TZOFFSETFROM:+0100
TZOFFSETTO:+0200
TZNAME:CEST
DTSTART:20260329T010000
END:DAYLIGHT
BEGIN:STANDARD
TZOFFSETFROM:+0200
TZOFFSETTO:+0100
TZNAME:CET
DTSTART:20261025T010000
END:STANDARD
END:VTIMEZONE
BEGIN:VEVENT
DTSTART;TZID=Europe/Berlin:20260116T183000
DTEND;TZID=Europe/Berlin:20260118T130000
DTSTAMP:20260419T214024
CREATED:20250211T133113Z
LAST-MODIFIED:20260108T100534Z
UID:37768-1768588200-1768741200@enneagramm.eu
SUMMARY:48231 Warendorf-Mitte: Enneagramm-Einführungsseminar (Julia Wendzinski)
DESCRIPTION:Enneagramm-Einführungsseminar \nDas Enneagramm ist ein ausgeprägt zukunftsorientiertes\, dynamisches\, psychologisches und auch spirituelles System zur Persönlichkeitsentwicklung\, das uns nützliche Lösungen für die Bewältigung unseres Alltages anbieten kann. Mit Hilfe des Enneagramms lernen wir uns selbst und unsere Mitmenschen besser kennen und verstehen. Das Enneagramm beschreibt 9 unterschiedliche Persönlichkeitsmuster. Jedes der Muster ist geprägt von einer spezifischen Selbstwahrnehmung und Fixierung die sich besonders in Stresssituationen zeigt. Durch das Erkennen des eigenen Musters lernen wir unsere Stärken und Schwächen kennen\, und unsere Potentiale zu entfalten. Auch können wir in Beziehungen\, andere Menschen\, besser verstehen und annehmen lernen.Im Einführungskurs werden wir uns über Vorträge\, Wahrnehmungsübungen\, Geschichten\, Reflexion und Austausch mit den Grundlagen des Enneagramms beschäftigen (Fortführungskurs: 9.-11- Oktober 2026). \nTermin: Freitag\, 16.01.2026\, 18:30 Uhr bis Sonntag\, 18.01.2026\, 13:00 Uhr (16 Unterrichtsstunden zu je 45 Minuten)Kursgebühr: 220\,00 € (zzgl. Kosten für Übernachtung und Mahlzeiten)Veranstaltungsort: Kloster Vinnenberg\, Beverstrang 37\, 48231 Warendorf-Milte (https://kloster-vinnenberg.de)Leitung: Julia Wendzinski (https://enneagramm-online.de/enneagramm-seminare)Anmeldung und Info: online unter https://kloster-vinnenberg.de/kurse-buchen/openbooking=587 \n			\n				zurück
URL:https://enneagramm.eu/event/48231-warendorf-mitte-enneagramm-einfuehrungsseminar-januar-2026/
LOCATION:Kloster Vinnenberg\, Beverstrang 37\, Warendorf-Milte\, 48231\, Deutschland
ORGANIZER;CN="Julia Wendzinski":MAILTO:julia_we@web.de
END:VEVENT
END:VCALENDAR