BEGIN:VCALENDAR
VERSION:2.0
PRODID:-//enneagramm.eu - ECPv6.3.2//NONSGML v1.0//EN
CALSCALE:GREGORIAN
METHOD:PUBLISH
X-ORIGINAL-URL:https://enneagramm.eu
X-WR-CALDESC:Veranstaltungen für enneagramm.eu
REFRESH-INTERVAL;VALUE=DURATION:PT1H
X-Robots-Tag:noindex
X-PUBLISHED-TTL:PT1H
BEGIN:VTIMEZONE
TZID:Europe/Berlin
BEGIN:DAYLIGHT
TZOFFSETFROM:+0100
TZOFFSETTO:+0200
TZNAME:CEST
DTSTART:20260329T010000
END:DAYLIGHT
BEGIN:STANDARD
TZOFFSETFROM:+0200
TZOFFSETTO:+0100
TZNAME:CET
DTSTART:20261025T010000
END:STANDARD
END:VTIMEZONE
BEGIN:VEVENT
DTSTART;TZID=Europe/Berlin:20260114T200000
DTEND;TZID=Europe/Berlin:20260114T213000
DTSTAMP:20260419T213114
CREATED:20251007T172913Z
LAST-MODIFIED:20251218T211413Z
UID:38358-1768420800-1768426200@enneagramm.eu
SUMMARY:Online per Zoom: EnneaOnlineTalk - Enneagramm und Leben (Friederike Spörl-Springer\, Xenia Zykar)
DESCRIPTION:EnneaOnlineTalk: Enneagramm und Leben \nDer EnneaOnlineTalk bietet die Möglichkeit\, das Leben gemeinsam aus 9 Perspektiven zu betrachten\, mehr über konkrete Aus- und Wechselwirkungen der Muster herauszufinden\, Enneagrammtheorien an konkreten Erfahrungen zu messen und zu vertiefen\, sich gegenseitig zur Weiterentwicklung zu inspirieren\, auszutauschen und vernetzen. \nUnd so läuft es ab: In einer ersten Runde werden Anliegen gesammelt (z.B. Themenbereiche\, Fragestellungen\, Mustergruppenwünsche). Dann folgen hintereinander 1-2 Phasen mit (evtl. parallelen) Breakoutsessions zu den gesammelten Ideen. Danach können Erkenntnisse etc. in der Gesamtrunde geteilt werden. Angepeiltes Ende 21.30Uhr. Wer mag\, kann bis spätabends weitersprechen (Meeting bleibt offen). \nDer EnneaOnlineTalk findet ca. vierteljährlich an unterschiedlichen Wochentagen\, jeweils von 20.00 bis ca. 21.30 Uhr statt. Die Teilnahme an Einzelterminen ist möglich. \nDas Angebot ist offen für alle Menschen\, die das Enneagramm in Grundzügen kennen\, ihr eigenes Muster bereits gefunden haben und bereit sind\, im geschützten Rahmen persönliche Erfahrungen zu teilen. \nOrganisation und Moderation: Friederike Spörl-Springer und Xenia ZykarKosten: freiwillige Spende an den Veranstalter Ökumenischer Arbeitskreis Enneagramm\, IBAN: DE73 2695 1311 0004 0068 13 und BIC: NOLADE21GFWTermin: Mittwoch\, 14. Januar 2026\, von 20:00 bis ca. 21:30 UhrAnmeldung: online unter https://www.evangelische-termine.de/d-7701723 \n			\n				zurück
URL:https://enneagramm.eu/event/enneaonlinetalk-enneagramm-und-leben-januar-2026/
LOCATION:Online per Zoom
END:VEVENT
END:VCALENDAR