BEGIN:VCALENDAR
VERSION:2.0
PRODID:-//enneagramm.eu - ECPv6.3.2//NONSGML v1.0//EN
CALSCALE:GREGORIAN
METHOD:PUBLISH
X-ORIGINAL-URL:https://enneagramm.eu
X-WR-CALDESC:Veranstaltungen für enneagramm.eu
REFRESH-INTERVAL;VALUE=DURATION:PT1H
X-Robots-Tag:noindex
X-PUBLISHED-TTL:PT1H
BEGIN:VTIMEZONE
TZID:Europe/Berlin
BEGIN:DAYLIGHT
TZOFFSETFROM:+0100
TZOFFSETTO:+0200
TZNAME:CEST
DTSTART:20250330T010000
END:DAYLIGHT
BEGIN:STANDARD
TZOFFSETFROM:+0200
TZOFFSETTO:+0100
TZNAME:CET
DTSTART:20251026T010000
END:STANDARD
END:VTIMEZONE
BEGIN:VEVENT
DTSTART;TZID=Europe/Berlin:20251212T180000
DTEND;TZID=Europe/Berlin:20251214T133000
DTSTAMP:20260419T232954
CREATED:20250717T185943Z
LAST-MODIFIED:20250717T191242Z
UID:38231-1765562400-1765719000@enneagramm.eu
SUMMARY:45721 Haltern am See: Einführung in das Enneagramm – Wochenendkurs im Advent (Maren Kockskämper\, Julia Olmesdahl)
DESCRIPTION:Sich selbst und andere besser verstehen und schätzen lernen: Einführung in das Enneagramm – Wochenendkurs im Advent \nDer Advent ist eine besondere Zeit der Vorbereitung – nicht nur auf das Weihnachtsfest\, sondern auch eine Einladung zur inneren Ruhe\, zur Achtsamkeit und Besinnung auf das Wesentliche. In diesem Wochenendseminar laden wir dich ein\, dich mit Hilfe des Enneagramms auf eine persönliche Reise zu dir selbst zu begeben. \nDas Enneagramm ist ein tiefgehendes Persönlichkeitsmodell mit uralten Wurzeln. Es zeigt auf eindrucksvolle Weise\, wie Menschen unterschiedlich fühlen\, denken und handeln – und bietet dabei keine starren Kategorien\, sondern inspirierende Entwicklungsmöglichkeiten und konkrete Handlungsoptionen. \nWas dich erwartet:– Einführung in die 9 Enneagramm-Typen und deren Grundmotive\, Ängste und Entwicklungspotenziale– Reflexion der eigenen Persönlichkeit– Arbeit mit Stress- und Entwicklungspunkten\, um in herausfordernden Zeiten gelassener zu bleiben– Verständnis für andere – ob im familiären Miteinander der Festtage oder im beruflichen Alltag– Vorbereitung auf ein entspannteres Weihnachtsfest– Austausch in der Gruppe: Das Enneagramm lebt von der mündlichen Tradition – vom Zuhören\, Teilen und voneinander Lernen \nGerade die Weihnachtszeit ist ein idealer Übungsraum: Begegnungen mit Familie\, Freunden und Kollegen lassen sich bewusster gestalten\, wenn wir die eigenen Muster erkennen und die Perspektiven anderer besser verstehen. \nDas Seminar ist für Einzelpersonen und Paare geeignet – alle sind willkommen\, die sich auf den Weg der Selbsterkenntnis und Persönlichkeitsentwicklung machen möchten. \nTermin: Freitag\, 12.12.2025\, 18:00 Uhr – Sonntag\, 14.12.2025\, 13:30 UhrKursgebühr: 395 Euro im Einzelzimmer und 370 Euro im Doppelzimmer pro Person (inkl. Übernachtung\, Vollpension\, Material\, zzgl. Anreise)Veranstaltungsort: Könzgenhaus\, Annabergstraße 40\, 45721 Haltern am See (www.koenzgenhaus.de)Referentinnen: Julia Olmesdahl (Pfarrerin\, Enneagramm-Trainerin (ÖAE)) und Maren Kockskämper (Kirchenrätin\, Enneagramm-Trainerin (ÖAE))Anmeldung: online unter https://app.guestoo.de/public/event/660a9441-35ad-436b-af60-2c0d7c60327f?lang=de \n			\n				zurück
URL:https://enneagramm.eu/event/45721-haltern-am-see-einfuehrung-in-das-enneagramm-wochenendkurs-im-advent-2025/
LOCATION:Könzgenhaus
END:VEVENT
END:VCALENDAR