BEGIN:VCALENDAR
VERSION:2.0
PRODID:-//enneagramm.eu - ECPv6.3.2//NONSGML v1.0//EN
CALSCALE:GREGORIAN
METHOD:PUBLISH
X-WR-CALNAME:enneagramm.eu
X-ORIGINAL-URL:https://enneagramm.eu
X-WR-CALDESC:Veranstaltungen für enneagramm.eu
REFRESH-INTERVAL;VALUE=DURATION:PT1H
X-Robots-Tag:noindex
X-PUBLISHED-TTL:PT1H
BEGIN:VTIMEZONE
TZID:Europe/Berlin
BEGIN:DAYLIGHT
TZOFFSETFROM:+0100
TZOFFSETTO:+0200
TZNAME:CEST
DTSTART:20250330T010000
END:DAYLIGHT
BEGIN:STANDARD
TZOFFSETFROM:+0200
TZOFFSETTO:+0100
TZNAME:CET
DTSTART:20251026T010000
END:STANDARD
END:VTIMEZONE
BEGIN:VEVENT
DTSTART;TZID=Europe/Berlin:20251114T170000
DTEND;TZID=Europe/Berlin:20251115T170000
DTSTAMP:20260420T010550
CREATED:20250324T160027Z
LAST-MODIFIED:20250324T160235Z
UID:37843-1763139600-1763226000@enneagramm.eu
SUMMARY:93047 Regensburg: Das innere Kind im Enneagramm\, Vertiefungskurs (Wally Kutscher)
DESCRIPTION:Vertiefungskurs – Wochenendseminar: Das innere Kind im Enneagramm \nZum Trostpunkt- und Entwicklungspunkt der Enneagramm-Typen gibt es eine interessante Theorie: die Seelenkinder der Enneatypen (in Sandra Maitri: Neun Porträts der Seele). Das Seelenkind entspricht dabei einer tieferen Seelenschicht\, die unserem Enneagramm-Typ zugrunde liegt und Qualitäten unseres Trostpunkt-Typs hat. Wertvolle Eigenschaften unseresjeweiligen Trostpunktes sind also in uns bereits angelegt und wollen wiederentdeckt und entwickelt werden!Kreative Impulse\, ein intensiver Austausch in der Gruppe und die Arbeit mit dem begehbaren Enneagramm vertiefen das persönliche Erleben und unterstützen den individuellen Entwicklungsweg. \nTermin: Freitag\, 14. November 2025\, von 17:00 bis 20:00 Uhr – Samstag\, 15. November 2025\, von 09:00 bis 17:00 UhrKursgebühr: 75 € / 50 €Veranstaltungsort: EBW im Alumneum\, Am Ölberg 2\, 93047 Regensburg (www.ebw-regensburg.de\, ebw@ebw-regensburg.de)Seminarleiterin: Wally Kutscher\, Enneagramm-Trainerin (ÖAE) (www.enneagramm-wallykutscher.de)Anmeldung: unter https://www.ebw-regensburg.de/veranstaltungen/ich-und-die-anderen-beziehungsarbeit-mit-dem-enneagramm-2/ \n			\n				zurück
URL:https://enneagramm.eu/event/93047-regensburg-das-innere-kind-im-enneagramm-vertiefungskurs-wally-kutscher-2025/
LOCATION:EBW im Alumneum
ORGANIZER;CN="Wally Kutscher":MAILTO:wallykutscher@gmail.com
END:VEVENT
BEGIN:VEVENT
DTSTART;TZID=Europe/Berlin:20251114T170000
DTEND;TZID=Europe/Berlin:20251116T140000
DTSTAMP:20260420T010550
CREATED:20240214T104649Z
LAST-MODIFIED:20250131T122215Z
UID:36405-1763139600-1763301600@enneagramm.eu
SUMMARY:34346 Kloster Bursfelde: Einführungsseminar Enneagramm (Inge Witzig-Temme\, Ludger Temme)
DESCRIPTION:Einführungsseminar zum Enneagramm: Wachsam leben \nWachsam leben ist das Leitmotiv 2025 im Kloster Bursfelde\, dem Geistlichen Zentrum der Evang.-luth. Landeskirche Hannover.Seit vielen Jahren bieten wir\, Inge Witzig-Temme und Ludger Temme\, hier als langjährige Kenner des Enneagramms und Mitglieder im ÖAE – Ökumenischen Arbeitskreis Enneagramm e.V. (teils im Vorstand) Enneagrammseminare an.Wenn du auch die Frage kennst\, weshalb die anderen so anders sind\, warum sie sich so und nicht anders verhalten. Wenn du verstehen möchtest\, warum in bestimmten Situationen deines Lebens eine „rote Lampe brennt“\, du immer wieder in bestimmte Fallen stolperst oder dieselben Fehler machst.Wenn du dich und auch andere besser verstehen möchtest\, dann ist die Beschäftigung mit dem Enneagramm genau das richtige. Aber es ist kein Schnellkurs in Psychologie. Es ist die Einladung dich in den Räumen des ehemaligen Benediktinerklosters von Bursfelde und umrahmt von selbst gestalteten Tagzeitengebeten auf diese alte Weisheitslehre einzulassen. Ein wesentlicher Bestandteil ist der von uns gestaltete und in vielen Jahren immer weiter entwickelte enneagrammatische Gang durch die Klosterkirche.Zu jedem der NEUN Enneagramm-Muster werden wir neben der theoretischen Hinführung das Einfühlen in das jeweilige Muster mit praktischen Übungen konkretisieren. Auf diese Weise kann jede Teilnehmerin und jeder Teilnehmer einmal alle Muster anprobieren. Dabei hilft ein liebevoller Blick auf die eigenen Stärken und Schwächen den Umgang mit sich selbst\, mit anderen und mit Gott reflektieren. \nTermin: Freitag\, 14.11.2025\, 17:00 Uhr – Sonntag\, 16.11.2025\, 14:00 Uhr \nKursgebühr: 330 € komplett (Unterkunft und Verpflegung sowie Seminargebühr) \nVeranstaltungsort: Geistliches Zentrum Kloster Bursfelde\, Klosterhof 5\, 34346 Hann. Münden OT Bursfelde (www.kloster-bursfelde.de) \nLeitung: Inge Witzig-Temme & Ludger Temme (Enneagrammtrainer ÖAE) \nAnmeldung (max. 21 Teilnehmende): https://www.kloster-bursfelde.de/angebote/programm/november-2025 \n			\n				zurück
URL:https://enneagramm.eu/event/34346-kloster-bursfelde-einfuehrungsseminar-enneagramm-2025/
LOCATION:Geistliches Zentrum Kloster Bursfelde\, Klosterhof 5\, 34346 Hann. Münden\, Deutschland
ORGANIZER;CN="Inge Witzig-Temme und Ludger Temme":MAILTO:enneagramm@temme.eu
END:VEVENT
BEGIN:VEVENT
DTSTART;TZID=Europe/Berlin:20251114T190000
DTEND;TZID=Europe/Berlin:20251116T120000
DTSTAMP:20260420T010550
CREATED:20250827T092808Z
LAST-MODIFIED:20250827T092811Z
UID:38269-1763146800-1763294400@enneagramm.eu
SUMMARY:92224 Amberg: Enneagramm-Modul II - Entwicklung (Klaus Pünder\, Thomas Peter)
DESCRIPTION:Enneagramm-Modul II: Entwicklung \n„Das Rad der Verwandlung darf nicht stillstehen\, sonst fällt es um“ (C. G. Jung) \nGeeignet für Teilnehmer\, die das Enneagramm durch einen Einführungskurs oder durch Bücher bereits kennen und ihren eigenen Persönlichkeitstyp schon entdeckt haben. Diesmal werden wir uns vor allem mit der inneren Dynamik und den Entwicklungsstufen beschäftigen. Unser Charaktermuster ist uns zwar schon in die Wiege gelegt\, aber innerhalb dieses Musters können wir uns zu immer reiferen Persönlichkeiten weiterentwickeln. Die Entwicklung sieht bei jedem Muster etwas anders aus\, also neun Glückskorridore\, die unterschiedliche Knackpunkte haben. Neben Fortschritten sind Rückfälle ganz normal. Die sog. „Entwicklungs- und Stresspunkte“ werden wiederholt\, denn ihre Kenntnis ist für das Verständnis und die Entwicklung des eigenen Musters sehr hilfreich. \nTermin: Freitag\, 14.11.2025\, 19:00 bis 21:00 Uhr – Samstag\, 15.11.2025\, 09:00 bis ca. 17:30 Uhr (12.30 Mittagspause\, 14.30 Kaffee) – Sonntag\, 16.11.2025\, 09:00 bis 12:00 Uhr. Für Getränke ist gesorgt\, Unterbringung und Verpflegung bitte selbständig.Seminargebühr: 119 EuroVeranstaltungsort: KEB Amberg-Sulzbach\, Dreifaltigkeitsstr. 3\, 92224 Amberg (www.keb-amberg-sulzbach.de/herzlich-willkommen). Parkplatzsituation günstig.Leitung: „Peter und der Pünder“ – Thomas Peter (Religionslehrer\, Enneagrammlehrer ÖAE) und Dr. med. Klaus Pünder (Augenarzt\, Autor\, Enneagrammlehrer ÖAE)Anmeldung bis eine Wochen vor Seminar (ca. 12 TN): KEB Amberg-Sulzbach\, 09621 – 47 55 20 (Büro: Mo 15-18 Uhr; Di\, Mi\, Do 9-11 Uhr) \n			\n				zurück
URL:https://enneagramm.eu/event/92224-amberg-enneagramm-modul-ii-entwicklung-2025/
LOCATION:KEB Amberg\, Dreifaltigkeitsstr. 3\, 92224 Amberg
ORGANIZER;CN="Thomas Peter":MAILTO:asut70@aol.com
END:VEVENT
END:VCALENDAR