BEGIN:VCALENDAR
VERSION:2.0
PRODID:-//enneagramm.eu - ECPv6.3.2//NONSGML v1.0//EN
CALSCALE:GREGORIAN
METHOD:PUBLISH
X-ORIGINAL-URL:https://enneagramm.eu
X-WR-CALDESC:Veranstaltungen für enneagramm.eu
REFRESH-INTERVAL;VALUE=DURATION:PT1H
X-Robots-Tag:noindex
X-PUBLISHED-TTL:PT1H
BEGIN:VTIMEZONE
TZID:Europe/Berlin
BEGIN:DAYLIGHT
TZOFFSETFROM:+0100
TZOFFSETTO:+0200
TZNAME:CEST
DTSTART:20250330T010000
END:DAYLIGHT
BEGIN:STANDARD
TZOFFSETFROM:+0200
TZOFFSETTO:+0100
TZNAME:CET
DTSTART:20251026T010000
END:STANDARD
END:VTIMEZONE
BEGIN:VEVENT
DTSTART;TZID=Europe/Berlin:20250124T190000
DTEND;TZID=Europe/Berlin:20250126T123000
DTSTAMP:20260422T124300
CREATED:20240619T143318Z
LAST-MODIFIED:20240619T143515Z
UID:36697-1737745200-1737894600@enneagramm.eu
SUMMARY:91126 Schwabach: Sich selbst und andere besser verstehen - Einführung in das Enneagramm (Friederike Spörl-Springer\, Michael Springer)
DESCRIPTION:Sich selbst und andere besser verstehen! Einführung in das Enneagramm \nWie ticke ich\, wie ticken meine Mitmenschen? Warum sind die anderen so anders als ich? Das Enneagramm ist vieles: Charakterlehre mit spirituellen Wurzeln\, Werkzeug zur Selbsterkenntnis und Persönlichkeitsentwicklung\, Verbesserung von Beziehungen und Klärung von Konflikten. Ziel des Seminars ist es\, sich der eigenen Bedürfnisse\, Denk- Fühl und Verhaltens-„Musters“ bewusst zu werden und auch andere Muster kennenzulernen. Das Seminar findet in einer vertraulichen\, von Wertschätzung geprägten Atmosphäre statt. Die Teilnehmenden bestimmen selbst\, was sie von sich persönlich mitteilen. Hinweis: die Arbeit mit dem Enneagramm dient der Selbsterkenntnis\, ist bzw. ersetzt aber keine Therapie. Eine normale psychische Stabilität wird vorausgesetzt. \nKurszeiten (mit Pausen):Freitag von 19.00 bis 21.30 Uhr\,Samstag von 9.30 bis 18.00 Uhr\,Sonntag von 10.00 bis 12.30 UhrGetränke und Snacks werden bereitgestellt\, am Samstag gibt es in der Mittagspause die Gelegenheit zun Einkehren in der nahegelegenen Schwabacher Innenstadt. \nTermin: Freitag\, 24.01.2025\, 19:00 Uhr – Sonntag\, 26.01.2025\, 12:30 Uhr \nKursgebühr: 89\,00 € (inkl. Seminarunterlagen\, Getränke\, Snacks\, ohne Unterkunft) \nVeranstaltungsort: Kapitelshaus Schwabach\, Martin Luther Platz 1\, 91126 Schwabach (www.ebw-schwabach.de\, ebw.schwabach@elkb.de\, (09122) 9256-420) \nLeitung: Friederike Spörl-Springer\, Enneagramm-Trainerin (ÖAE)\, Referentin für Biografiearbeit (Lebensmutig e.V.)\, Diakonin und Michael Springer\, Enneagramm-kundiger Apotheker \nAnmeldung: bitte möglichst frühzeitig\, spätestens bis 16. Januar 2025\, https://www.evangelische-termine.de/d-7090752 \n			\n				zurück
URL:https://enneagramm.eu/event/91126-schwabach-sich-selbst-und-andere-besser-verstehen-2025/
LOCATION:Kapitelshaus Schwabach\, Martin Luther Platz 1\, 91126 Schwabach
END:VEVENT
END:VCALENDAR