BEGIN:VCALENDAR
VERSION:2.0
PRODID:-//enneagramm.eu - ECPv6.3.2//NONSGML v1.0//EN
CALSCALE:GREGORIAN
METHOD:PUBLISH
X-WR-CALNAME:enneagramm.eu
X-ORIGINAL-URL:https://enneagramm.eu
X-WR-CALDESC:Veranstaltungen für enneagramm.eu
REFRESH-INTERVAL;VALUE=DURATION:PT1H
X-Robots-Tag:noindex
X-PUBLISHED-TTL:PT1H
BEGIN:VTIMEZONE
TZID:Europe/Berlin
BEGIN:DAYLIGHT
TZOFFSETFROM:+0100
TZOFFSETTO:+0200
TZNAME:CEST
DTSTART:20240331T010000
END:DAYLIGHT
BEGIN:STANDARD
TZOFFSETFROM:+0200
TZOFFSETTO:+0100
TZNAME:CET
DTSTART:20241027T010000
END:STANDARD
END:VTIMEZONE
BEGIN:VEVENT
DTSTART;TZID=Europe/Berlin:20241122T170000
DTEND;TZID=Europe/Berlin:20241123T170000
DTSTAMP:20260423T175500
CREATED:20231128T155618Z
LAST-MODIFIED:20240209T115618Z
UID:36190-1732294800-1732381200@enneagramm.eu
SUMMARY:93047 Regensburg: Ich und die anderen – Beziehungsarbeit mit dem Enneagramm\, Vertiefungskurs   (Wally Kutscher)
DESCRIPTION:Vertiefungskurs – Wochenend-Seminar:Ich und anderen – Beziehungsarbeit mit dem Enneagramm \nZwischenmenschliche Beziehungen im persönlichen und beruflichen Umfeld bestimmen unser Leben wesentlich mit. Jeder Enneagramm-Typ bringt dabei einen Typ-spezifischen Beziehungsstil ein\, d.h. eine spezifische Art und Weise\, mit der Umgebung in Beziehung zu treten und in Beziehung zu sein. Dies führt nicht selten zu Konflikten\, die jedoch immer auch Entwicklungschancen beinhalten. \nDas Enneagramm hilft uns\, unterschiedliche Verhaltensmuster in Beziehungen zu erkennen und anzunehmen. Auf dieser Grundlage können wir persönliche Entwicklungswege entdecken und so unsere Beziehungen erfüllender gestalten. Erkenntnisse aus der Enneagramm-Literatur\, der Austausch in der Gruppe und die Arbeit mit dem begehbaren Enneagramm unterstützen den persönlichen Entwicklungsweg. \nKurszeiten: Freitag 17.00 – 20.00 und Samstag 09.00 – 17.00 \nKursgebühr: 73 €/50 € \nVeranstaltungsort: EBW im Alumneum\, Am Ölberg 2\, 93047 Regensburg \nSeminarleiterin: Wally Kutscher (wallykutscher@gmail.com) \nAnmeldung: ebw@ebw-regensburg.de \n  \n			\n				zurück
URL:https://enneagramm.eu/event/93047-regensburg-ich-und-die-anderen-beziehungsarbeit-mit-dem-enneagramm-vertiefungskurs-wally-kutscher/
LOCATION:EBW Regensburg\, Am Ölberg 2\, 93047 Regensburg
ORGANIZER;CN="Wally Kutscher":MAILTO:wallykutscher@gmail.com
END:VEVENT
END:VCALENDAR